BEGIN:VCALENDAR
VERSION:2.0
PRODID:-//OSM Calendar
BEGIN:VTIMEZONE
TZID:Europe/Berlin
COMMENT:This timezone only works from 1970-01-01 to 2038-01-01.
BEGIN:STANDARD
DTSTART:19700101T000000
TZNAME:CET
TZOFFSETFROM:+0100
TZOFFSETTO:+0100
END:STANDARD
BEGIN:DAYLIGHT
DTSTART:19800406T030000
RDATE:19810329T030000,19820328T030000,19830327T030000,19840325T030000,1985
 0331T030000,19860330T030000,19870329T030000,19880327T030000,19890326T03000
 0,19900325T030000,19910331T030000,19920329T030000,19930328T030000,19940327
 T030000,19950326T030000,19960331T030000,19970330T030000,19980329T030000,19
 990328T030000,20000326T030000,20010325T030000,20020331T030000,20030330T030
 000,20040328T030000,20050327T030000,20060326T030000,20070325T030000,200803
 30T030000,20090329T030000,20100328T030000,20110327T030000,20120325T030000,
 20130331T030000,20140330T030000,20150329T030000,20160327T030000,20170326T0
 30000,20180325T030000,20190331T030000,20200329T030000,20210328T030000,2022
 0327T030000,20230326T030000,20240331T030000,20250330T030000,20260329T03000
 0,20270328T030000,20280326T030000,20290325T030000,20300331T030000,20310330
 T030000,20320328T030000,20330327T030000,20340326T030000,20350325T030000,20
 360330T030000,20370329T030000
TZNAME:CEST
TZOFFSETFROM:+0100
TZOFFSETTO:+0200
END:DAYLIGHT
BEGIN:STANDARD
DTSTART:19800928T030000
RDATE:19810927T030000,19820926T030000,19830925T030000,19840930T030000,1985
 0929T030000,19860928T030000,19870927T030000,19880925T030000,19890924T03000
 0,19900930T030000,19910929T030000,19920927T030000,19930926T030000,19940925
 T030000,19950924T030000,19961027T030000,19971026T030000,19981025T030000,19
 991031T030000,20001029T030000,20011028T030000,20021027T030000,20031026T030
 000,20041031T030000,20051030T030000,20061029T030000,20071028T030000,200810
 26T030000,20091025T030000,20101031T030000,20111030T030000,20121028T030000,
 20131027T030000,20141026T030000,20151025T030000,20161030T030000,20171029T0
 30000,20181028T030000,20191027T030000,20201025T030000,20211031T030000,2022
 1030T030000,20231029T030000,20241027T030000,20251026T030000,20261025T03000
 0,20271031T030000,20281029T030000,20291028T030000,20301027T030000,20311026
 T030000,20321031T030000,20331030T030000,20341029T030000,20351028T030000,20
 361026T030000,20371025T030000
TZNAME:CET
TZOFFSETFROM:+0200
TZOFFSETTO:+0100
END:STANDARD
END:VTIMEZONE
BEGIN:VEVENT
SUMMARY:Hamburger Mappertreffen
DTSTART:20260414T190000Z
DTSTAMP:20260414T190000Z
UID:OSMCAL-4697
DESCRIPTION:Dieses lockere OSM-Treffen findet jeden zweiten Dienstag im Mo
 nat gegen 19 Uhr stattfindet. OSM-Interessierte aus Hamburg\, Umgebung und
  auch von außerhalb sind herzlich eingeladen einfach vorbei zu kommen.\n\
 nDieses Treffen findet **Online** mittels BigBlueButton (BBB) statt. Den L
 ink zum BBB-Raum findest du im Wiki.\n\n**Hinweis:** Es kann kurzfristig z
 u Änderungen des Ortes kommen\, siehe ggf. Wiki für aktuellen Treffpunkt
 .\n\n**Du hast Interesse?** Super\, dann einfach vorbei kommen. Gerne kann
 st du dich im [Wiki](https://wiki.openstreetmap.org/wiki/Hamburger_Mappert
 reffen) eintragen.\n\nIm Wiki findest du mehr Details und kannst gerne The
 menvorschläge eintragen.\nEvent Website: https://wiki.openstreetmap.org/w
 iki/Hamburger_Mappertreffen
GEO:53.559167;9.975176
LOCATION:Online (Link s. Wiki)\, 23\, Karolinenstraße\, St. Pauli\, Hambu
 rg\, Germany
END:VEVENT
BEGIN:VEVENT
SUMMARY:Lüneburger Mappertreffen (online)
DTSTART;TZID=Europe/Berlin:20260421T203000
DTSTAMP:20260421T183000Z
UID:OSMCAL-4370
DESCRIPTION:Mappertreffen für Lüneburg und Umgebung.\n\n---\n\nWir treff
 en uns jeden __3. Dienstag__ im Monat um 20:30 Uhr online.\n\n---\n\nAuf u
 nserer  [Wiki-Seite](https://wiki.openstreetmap.org/wiki/L%C3%BCneburg/Map
 pertreffen) können gerne Themenvorschläge und Anregungen eingereicht wer
 den. Wer teilnehmen möchte\, kann sich dort eintragen oder bei einem der 
 letzten Teilnehmer melden.\nEvent Website: https://wiki.openstreetmap.org/
 wiki/L%C3%BCneburg/Mappertreffen
GEO:53.250207;10.408323
LOCATION:Online\, Am Markt\, Altstadt\, Lower Saxony\, Germany
END:VEVENT
BEGIN:VEVENT
SUMMARY:Hamburger Mappertreffen
DTSTART:20260512T190000Z
DTSTAMP:20260512T190000Z
UID:OSMCAL-4694
DESCRIPTION:Dieses lockere OSM-Treffen findet jeden zweiten Dienstag im Mo
 nat gegen 19 Uhr stattfindet. OSM-Interessierte aus Hamburg\, Umgebung und
  auch von außerhalb sind herzlich eingeladen einfach vorbei zu kommen.\n\
 nDieses Treffen findet in der **[Kneipe "Variable" im Karoviertel](https:/
 /www.openstreetmap.org/node/290079105)** statt. Auf unserem Tisch wirst du
  ein OSM-Schild finden\, man kann uns also nicht verfehlen.\n\n**Hinweis:*
 * Es kann kurzfristig zu Änderungen des Ortes kommen\, siehe ggf. Wiki f
 ür aktuellen Treffpunkt.\n\n**Du hast Interesse?** Super\, dann gib uns u
 nverbindlich Bescheid\, auch ein "vielleicht" hilft uns. Gerne per [Wiki](
 https://wiki.openstreetmap.org/wiki/Hamburger_Mappertreffen)\, Mail\, Tele
 gram oder [osm.org Nachricht](https://www.openstreetmap.org/messages/new/h
 auke-stieler). Wir müssen vor Ort reservieren und benötigen dafür eine 
 ungefähre Personenanzahl.\n\nIm Wiki findest du mehr Details und kannst g
 erne Themenvorschläge eintragen.\nEvent Website: https://wiki.openstreetm
 ap.org/wiki/Hamburger_Mappertreffen
GEO:53.559167;9.975176
LOCATION:Voraussichtlich: "Variable"\, Karolinenstraße 23\, 23\, Karoline
 nstraße\, St. Pauli\, Hamburg\, Germany
END:VEVENT
BEGIN:VEVENT
SUMMARY:Lüneburger Mappertreffen (online)
DTSTART;TZID=Europe/Berlin:20260519T203000
DTSTAMP:20260519T183000Z
UID:OSMCAL-4371
DESCRIPTION:Mappertreffen für Lüneburg und Umgebung.\n\n---\n\nWir treff
 en uns jeden __3. Dienstag__ im Monat um 20:30 Uhr online.\n\n---\n\nAuf u
 nserer  [Wiki-Seite](https://wiki.openstreetmap.org/wiki/L%C3%BCneburg/Map
 pertreffen) können gerne Themenvorschläge und Anregungen eingereicht wer
 den. Wer teilnehmen möchte\, kann sich dort eintragen oder bei einem der 
 letzten Teilnehmer melden.\nEvent Website: https://wiki.openstreetmap.org/
 wiki/L%C3%BCneburg/Mappertreffen
GEO:53.250207;10.408323
LOCATION:Online\, Am Markt\, Altstadt\, Lower Saxony\, Germany
END:VEVENT
BEGIN:VEVENT
SUMMARY:Hamburger Mappertreffen
DTSTART:20260609T190000Z
DTSTAMP:20260609T190000Z
UID:OSMCAL-4695
DESCRIPTION:Dieses lockere OSM-Treffen findet jeden zweiten Dienstag im Mo
 nat gegen 19 Uhr stattfindet. OSM-Interessierte aus Hamburg\, Umgebung und
  auch von außerhalb sind herzlich eingeladen einfach vorbei zu kommen.\n\
 nDieses Treffen findet in der **[Kneipe "Variable" im Karoviertel](https:/
 /www.openstreetmap.org/node/290079105)** statt. Auf unserem Tisch wirst du
  ein OSM-Schild finden\, man kann uns also nicht verfehlen.\n\n**Hinweis:*
 * Es kann kurzfristig zu Änderungen des Ortes kommen\, siehe ggf. Wiki f
 ür aktuellen Treffpunkt.\n\n**Du hast Interesse?** Super\, dann gib uns u
 nverbindlich Bescheid\, auch ein "vielleicht" hilft uns. Gerne per [Wiki](
 https://wiki.openstreetmap.org/wiki/Hamburger_Mappertreffen)\, Mail\, Tele
 gram oder [osm.org Nachricht](https://www.openstreetmap.org/messages/new/h
 auke-stieler). Wir müssen vor Ort reservieren und benötigen dafür eine 
 ungefähre Personenanzahl.\n\nIm Wiki findest du mehr Details und kannst g
 erne Themenvorschläge eintragen.\nEvent Website: https://wiki.openstreetm
 ap.org/wiki/Hamburger_Mappertreffen
GEO:53.559167;9.975176
LOCATION:Voraussichtlich: "Variable"\, Karolinenstraße 23\, 23\, Karoline
 nstraße\, St. Pauli\, Hamburg\, Germany
END:VEVENT
BEGIN:VEVENT
SUMMARY:Lüneburger Mappertreffen (online)
DTSTART;TZID=Europe/Berlin:20260616T203000
DTSTAMP:20260616T183000Z
UID:OSMCAL-4372
DESCRIPTION:Mappertreffen für Lüneburg und Umgebung.\n\n---\n\nWir treff
 en uns jeden __3. Dienstag__ im Monat um 20:30 Uhr online.\n\n---\n\nAuf u
 nserer  [Wiki-Seite](https://wiki.openstreetmap.org/wiki/L%C3%BCneburg/Map
 pertreffen) können gerne Themenvorschläge und Anregungen eingereicht wer
 den. Wer teilnehmen möchte\, kann sich dort eintragen oder bei einem der 
 letzten Teilnehmer melden.\nEvent Website: https://wiki.openstreetmap.org/
 wiki/L%C3%BCneburg/Mappertreffen
GEO:53.250207;10.408323
LOCATION:Online\, Am Markt\, Altstadt\, Lower Saxony\, Germany
END:VEVENT
BEGIN:VEVENT
SUMMARY:Hamburger Mappertreffen
DTSTART:20260714T190000Z
DTSTAMP:20260714T190000Z
UID:OSMCAL-4696
DESCRIPTION:Dieses lockere OSM-Treffen findet jeden zweiten Dienstag im Mo
 nat gegen 19 Uhr stattfindet. OSM-Interessierte aus Hamburg\, Umgebung und
  auch von außerhalb sind herzlich eingeladen einfach vorbei zu kommen.\n\
 nDieses Treffen findet in der **[Kneipe "Variable" im Karoviertel](https:/
 /www.openstreetmap.org/node/290079105)** statt. Auf unserem Tisch wirst du
  ein OSM-Schild finden\, man kann uns also nicht verfehlen.\n\n**Hinweis:*
 * Es kann kurzfristig zu Änderungen des Ortes kommen\, siehe ggf. Wiki f
 ür aktuellen Treffpunkt.\n\n**Du hast Interesse?** Super\, dann gib uns u
 nverbindlich Bescheid\, auch ein "vielleicht" hilft uns. Gerne per [Wiki](
 https://wiki.openstreetmap.org/wiki/Hamburger_Mappertreffen)\, Mail\, Tele
 gram oder [osm.org Nachricht](https://www.openstreetmap.org/messages/new/h
 auke-stieler). Wir müssen vor Ort reservieren und benötigen dafür eine 
 ungefähre Personenanzahl.\n\nIm Wiki findest du mehr Details und kannst g
 erne Themenvorschläge eintragen.\nEvent Website: https://wiki.openstreetm
 ap.org/wiki/Hamburger_Mappertreffen
GEO:53.559167;9.975176
LOCATION:Voraussichtlich: "Variable"\, Karolinenstraße 23\, 23\, Karoline
 nstraße\, St. Pauli\, Hamburg\, Germany
END:VEVENT
BEGIN:VEVENT
SUMMARY:Lüneburger Mappertreffen (online)
DTSTART;TZID=Europe/Berlin:20260721T203000
DTSTAMP:20260721T183000Z
UID:OSMCAL-4373
DESCRIPTION:Mappertreffen für Lüneburg und Umgebung.\n\n---\n\nWir treff
 en uns jeden __3. Dienstag__ im Monat um 20:30 Uhr online.\n\n---\n\nAuf u
 nserer  [Wiki-Seite](https://wiki.openstreetmap.org/wiki/L%C3%BCneburg/Map
 pertreffen) können gerne Themenvorschläge und Anregungen eingereicht wer
 den. Wer teilnehmen möchte\, kann sich dort eintragen oder bei einem der 
 letzten Teilnehmer melden.\nEvent Website: https://wiki.openstreetmap.org/
 wiki/L%C3%BCneburg/Mappertreffen
GEO:53.250207;10.408323
LOCATION:Online\, Am Markt\, Altstadt\, Lower Saxony\, Germany
END:VEVENT
BEGIN:VEVENT
SUMMARY:Lüneburger Mappertreffen (online)
DTSTART;TZID=Europe/Berlin:20260818T203000
DTSTAMP:20260818T183000Z
UID:OSMCAL-4374
DESCRIPTION:Mappertreffen für Lüneburg und Umgebung.\n\n---\n\nWir treff
 en uns jeden __3. Dienstag__ im Monat um 20:30 Uhr online.\n\n---\n\nAuf u
 nserer  [Wiki-Seite](https://wiki.openstreetmap.org/wiki/L%C3%BCneburg/Map
 pertreffen) können gerne Themenvorschläge und Anregungen eingereicht wer
 den. Wer teilnehmen möchte\, kann sich dort eintragen oder bei einem der 
 letzten Teilnehmer melden.\nEvent Website: https://wiki.openstreetmap.org/
 wiki/L%C3%BCneburg/Mappertreffen
GEO:53.250207;10.408323
LOCATION:Online\, Am Markt\, Altstadt\, Lower Saxony\, Germany
END:VEVENT
BEGIN:VEVENT
SUMMARY:Lüneburger Mappertreffen (online)
DTSTART;TZID=Europe/Berlin:20260915T203000
DTSTAMP:20260915T183000Z
UID:OSMCAL-4375
DESCRIPTION:Mappertreffen für Lüneburg und Umgebung.\n\n---\n\nWir treff
 en uns jeden __3. Dienstag__ im Monat um 20:30 Uhr online.\n\n---\n\nAuf u
 nserer  [Wiki-Seite](https://wiki.openstreetmap.org/wiki/L%C3%BCneburg/Map
 pertreffen) können gerne Themenvorschläge und Anregungen eingereicht wer
 den. Wer teilnehmen möchte\, kann sich dort eintragen oder bei einem der 
 letzten Teilnehmer melden.\nEvent Website: https://wiki.openstreetmap.org/
 wiki/L%C3%BCneburg/Mappertreffen
GEO:53.250207;10.408323
LOCATION:Online\, Am Markt\, Altstadt\, Lower Saxony\, Germany
END:VEVENT
BEGIN:VEVENT
SUMMARY:Lüneburger Mappertreffen (online)
DTSTART;TZID=Europe/Berlin:20261020T203000
DTSTAMP:20261020T183000Z
UID:OSMCAL-4376
DESCRIPTION:Mappertreffen für Lüneburg und Umgebung.\n\n---\n\nWir treff
 en uns jeden __3. Dienstag__ im Monat um 20:30 Uhr online.\n\n---\n\nAuf u
 nserer  [Wiki-Seite](https://wiki.openstreetmap.org/wiki/L%C3%BCneburg/Map
 pertreffen) können gerne Themenvorschläge und Anregungen eingereicht wer
 den. Wer teilnehmen möchte\, kann sich dort eintragen oder bei einem der 
 letzten Teilnehmer melden.\nEvent Website: https://wiki.openstreetmap.org/
 wiki/L%C3%BCneburg/Mappertreffen
GEO:53.250207;10.408323
LOCATION:Online\, Am Markt\, Altstadt\, Lower Saxony\, Germany
END:VEVENT
BEGIN:VEVENT
SUMMARY:Lüneburger Mappertreffen (online)
DTSTART;TZID=Europe/Berlin:20261117T203000
DTSTAMP:20261117T193000Z
UID:OSMCAL-4377
DESCRIPTION:Mappertreffen für Lüneburg und Umgebung.\n\n---\n\nWir treff
 en uns jeden __3. Dienstag__ im Monat um 20:30 Uhr online.\n\n---\n\nAuf u
 nserer  [Wiki-Seite](https://wiki.openstreetmap.org/wiki/L%C3%BCneburg/Map
 pertreffen) können gerne Themenvorschläge und Anregungen eingereicht wer
 den. Wer teilnehmen möchte\, kann sich dort eintragen oder bei einem der 
 letzten Teilnehmer melden.\nEvent Website: https://wiki.openstreetmap.org/
 wiki/L%C3%BCneburg/Mappertreffen
GEO:53.250207;10.408323
LOCATION:Online\, Am Markt\, Altstadt\, Lower Saxony\, Germany
END:VEVENT
BEGIN:VEVENT
SUMMARY:Lüneburger Mappertreffen (online)
DTSTART;TZID=Europe/Berlin:20261215T203000
DTSTAMP:20261215T193000Z
UID:OSMCAL-4378
DESCRIPTION:Mappertreffen für Lüneburg und Umgebung.\n\n---\n\nWir treff
 en uns jeden __3. Dienstag__ im Monat um 20:30 Uhr online.\n\n---\n\nAuf u
 nserer  [Wiki-Seite](https://wiki.openstreetmap.org/wiki/L%C3%BCneburg/Map
 pertreffen) können gerne Themenvorschläge und Anregungen eingereicht wer
 den. Wer teilnehmen möchte\, kann sich dort eintragen oder bei einem der 
 letzten Teilnehmer melden.\nEvent Website: https://wiki.openstreetmap.org/
 wiki/L%C3%BCneburg/Mappertreffen
GEO:53.250207;10.408323
LOCATION:Online\, Am Markt\, Altstadt\, Lower Saxony\, Germany
END:VEVENT
END:VCALENDAR
