BEGIN:VCALENDAR
VERSION:2.0
PRODID:-//OSM Calendar
BEGIN:VTIMEZONE
TZID:America/Sao_Paulo
COMMENT:This timezone only works from 1970-01-01 to 2038-01-01.
BEGIN:STANDARD
DTSTART:19700101T000000
TZNAME:-03
TZOFFSETFROM:-0300
TZOFFSETTO:-0300
END:STANDARD
BEGIN:DAYLIGHT
DTSTART:19851102T010000
RDATE:19861025T010000,19871025T010000,19881016T010000,19891015T010000,1990
 1021T010000,19911020T010000,19921025T010000,19931017T010000,19941016T01000
 0,19951015T010000,19961006T010000,19971006T010000,19981011T010000,19991003
 T010000,20001008T010000,20011014T010000,20021103T010000,20031019T010000,20
 041102T010000,20051016T010000,20061105T010000,20071014T010000,20081019T010
 000,20091018T010000,20101017T010000,20111016T010000,20121021T010000,201310
 20T010000,20141019T010000,20151018T010000,20161016T010000,20171015T010000,
 20181104T010000
TZNAME:-02
TZOFFSETFROM:-0300
TZOFFSETTO:-0200
END:DAYLIGHT
BEGIN:STANDARD
DTSTART:19860315T000000
RDATE:19870214T000000,19880207T000000,19890129T000000,19900211T000000,1991
 0217T000000,19920209T000000,19930131T000000,19940220T000000,19950219T00000
 0,19960211T000000,19970216T000000,19980301T000000,19990221T000000,20000227
 T000000,20010218T000000,20020217T000000,20030216T000000,20040215T000000,20
 050220T000000,20060219T000000,20070225T000000,20080217T000000,20090215T000
 000,20100221T000000,20110220T000000,20120226T000000,20130217T000000,201402
 16T000000,20150222T000000,20160221T000000,20170219T000000,20180218T000000,
 20190217T000000
TZNAME:-03
TZOFFSETFROM:-0200
TZOFFSETTO:-0300
END:STANDARD
END:VTIMEZONE
BEGIN:VEVENT
SUMMARY:Capacitação OSM 2026 - IVIDES DATA ® - Dia #2 - Editor iD
DTSTART;TZID=America/Sao_Paulo:20260508T140000
DTEND;TZID=America/Sao_Paulo:20260508T160000
DTSTAMP:20260508T170000Z
UID:OSMCAL-4740
DESCRIPTION:CICLO DE OFICINAS DE MAPEAMENTO 2026\n\n100% ON-LINE - IVIDES 
 DATA®\n\nHaverá 5 encontros de 15 em 15 dias - 08/05\, 22/05\, 05/06\, 1
 9/06 e 03/07\, com diferentes temas (inclui formulários Web com KoboToolb
 ox e mapas Web com uMap).\n\nDia #2 - Mapeamento com editor iD\n\nSerão a
 presentados os recursos do editor e dicas para mapeamento mais fácil de d
 iversas feições comumente encontradas como hospitais\, escolas\, vias\, 
 edificações\, árvores. Orientação sobre a inclusão de etiquetas de W
 ikidata e como elaborar corretamente a indicação de endereços.\n\nNíve
 l: para mapeadores de todos os níveis.\n\nAcesse o formulário de inscri
 ção e envie suas informações para receber o link da sessão on-line:\n
 \nhttps://framaforms.org/oficinas-osm-2026-ivides-data-r-1777150442\n\nA t
 ransmissão será realizada em sala virtual JITSI e gravada para posterior
  disponibilização.\n\nRealizador: IVIDES DATA® - https://ivides.org/ser
 vicos\n\nContato: ivides [at] ivides.org
GEO:-22.911014;-43.209373
LOCATION:Rio de Janeiro\, Viaduto dos Fuzileiros\, Praça da Bandeira\, Ri
 o de Janeiro\, Rio de Janeiro\, Brazil
END:VEVENT
END:VCALENDAR
