BEGIN:VCALENDAR
VERSION:2.0
PRODID:-//OSM Calendar
BEGIN:VTIMEZONE
TZID:Asia/Calcutta
COMMENT:This timezone only works from 1970-01-01 to 2038-01-01.
BEGIN:STANDARD
DTSTART:19700101T000000
TZNAME:IST
TZOFFSETFROM:+0530
TZOFFSETTO:+0530
END:STANDARD
END:VTIMEZONE
BEGIN:VEVENT
SUMMARY:Mapping at Ranganathan Street\, Chennai
DTSTART;TZID=Asia/Calcutta:20260425T160000
DTEND;TZID=Asia/Calcutta:20260425T190000
DTSTAMP:20260425T103000Z
UID:OSMCAL-4737
DESCRIPTION:Ad-hoc mapping plan to add shops / stuff at Ranganathan Street
 \, T. nagar\, Chennai.\n\nFor any doubts contact me at +91-87542-75908
GEO:13.037529;80.22971
LOCATION:Ranganathan Street\, Chennai\, Ranganathan Street\, Zone 10 Kodam
 bakkam\, Chennai\, Tamil Nadu\, India
END:VEVENT
END:VCALENDAR
