BEGIN:VCALENDAR
VERSION:2.0
PRODID:-//OSM Calendar
BEGIN:VEVENT
SUMMARY:Webinaire de sensibilisation à OpenStreetMap pour les collectivit
 és
DTSTART:20260519T140000Z
DTEND:20260519T153000Z
DTSTAMP:20260519T140000Z
UID:OSMCAL-4736
DESCRIPTION:Le CRAIG a le plaisir de vous convier à un **webinaire consac
 ré à OpenStreetMap (OSM)**\, qui se tiendra le **mardi 19 mai à 14h**\,
  et qui sera animé par **Jean-Christophe Becquet**\, spécialiste d'OSM.\
 n\nOpenStreetMap est un projet collaboratif mondial qui vise à créer une
  base de données géographiques libre et ouverte. \nBien plus qu'une simp
 le carte\, c'est avant tout un ensemble de données (routes\, bâtiments\,
  points d’intérêt\, etc.) que chacun peut utiliser\, modifier et réut
 iliser librement pour créer des cartes ou réaliser des analyses.\n\nAu p
 rogramme :\n\n* OSM\, c'est quoi ? Les fondamentaux d’OpenStreetMap et s
 on fonctionnement collaboratif\n* Des cas d’usage concrets dans différe
 nts domaines au sein de collectivités\n* Comment faire pour se lancer dan
 s l'utilisation et/ou la contribution ?\n\nCe webinaire s’adresse aussi 
 bien aux débutants qu’aux utilisateurs souhaitant approfondir leurs con
 naissances.\n\n**=> Voici le lien de connexion à l'événement :** [https
 ://visio.numerique.gouv.fr/ssi-hpwl-apc](https://visio.numerique.gouv.fr/s
 si-hpwl-apc)\n\nL'accès à ce webinaire est **libre et gratuit**. N’hé
 sitez pas à partager cette invitation autour de vous.\nEvent Website: htt
 ps://visio.numerique.gouv.fr/ssi-hpwl-apc
END:VEVENT
END:VCALENDAR
