BEGIN:VCALENDAR
VERSION:2.0
PRODID:-//OSM Calendar
BEGIN:VTIMEZONE
TZID:America/Monterrey
COMMENT:This timezone only works from 1970-01-01 to 2038-01-01.
BEGIN:STANDARD
DTSTART:19700101T000000
TZNAME:CST
TZOFFSETFROM:-0600
TZOFFSETTO:-0600
END:STANDARD
BEGIN:DAYLIGHT
DTSTART:19880403T030000
RDATE:19960407T030000,19970406T030000,19980405T030000,19990404T030000,2000
 0402T030000,20010506T030000,20020407T030000,20030406T030000,20040404T03000
 0,20050403T030000,20060402T030000,20070401T030000,20080406T030000,20090405
 T030000,20100404T030000,20110403T030000,20120401T030000,20130407T030000,20
 140406T030000,20150405T030000,20160403T030000,20170402T030000,20180401T030
 000,20190407T030000,20200405T030000,20210404T030000,20220403T030000
TZNAME:CDT
TZOFFSETFROM:-0600
TZOFFSETTO:-0500
END:DAYLIGHT
BEGIN:STANDARD
DTSTART:19881030T020000
RDATE:19961027T020000,19971026T020000,19981025T020000,19991031T020000,2000
 1029T020000,20010930T020000,20021027T020000,20031026T020000,20041031T02000
 0,20051030T020000,20061029T020000,20071028T020000,20081026T020000,20091025
 T020000,20101031T020000,20111030T020000,20121028T020000,20131027T020000,20
 141026T020000,20151025T020000,20161030T020000,20171029T020000,20181028T020
 000,20191027T020000,20201025T020000,20211031T020000,20221030T020000
TZNAME:CST
TZOFFSETFROM:-0500
TZOFFSETTO:-0600
END:STANDARD
END:VTIMEZONE
BEGIN:VEVENT
SUMMARY:OpenStreetMap: Mapeo libre
DTSTART;TZID=America/Monterrey:20260425T130000
DTEND;TZID=America/Monterrey:20260425T150000
DTSTAMP:20260425T190000Z
UID:OSMCAL-4735
DESCRIPTION:En la reunión del Grupo de Usuarios de Linux de La Laguna de 
 este mes\, y de la mano de Osvaldo Salazar\, conoceremos lo básico del ma
 peo libre con OpenStreetMap\, aprendiendo cómo agregar los elementos que 
 nos rodean y contribuir a la construcción de mapas abiertos desde nuestro
  entorno... y más allá 😃\n\nUna excelente oportunidad para iniciarte 
 en el mundo del mapeo colaborativo y aportar información útil para todos
 .\nEvent Website: https://www.youtube.com/watch?v=TQR62SUCVs8
GEO:25.553225;-103.370876
LOCATION:On line\, Calle Torreón\, Torreón\, Coahuila\, Mexico
END:VEVENT
END:VCALENDAR
