BEGIN:VCALENDAR
VERSION:2.0
PRODID:-//OSM Calendar
BEGIN:VEVENT
SUMMARY:iD Community Chat
DTSTART:20260506T160000Z
DTSTAMP:20260506T160000Z
UID:OSMCAL-4733
DESCRIPTION:Regular online community meetups are organized to exchange/cha
 t/talk/… about the iD editor. The meetings will take place at [this room
 ](https://osmvideo.cloud68.co/user/mar-ljx-3qx-58s) on OSMF's BigBlueButto
 n server.\nEvent Website: https://wiki.openstreetmap.org/wiki/ID/Community
 _Chats/2026
END:VEVENT
END:VCALENDAR
