BEGIN:VCALENDAR
VERSION:2.0
PRODID:-//OSM Calendar
BEGIN:VTIMEZONE
TZID:Europe/Berlin
COMMENT:This timezone only works from 1970-01-01 to 2038-01-01.
BEGIN:STANDARD
DTSTART:19700101T000000
TZNAME:CET
TZOFFSETFROM:+0100
TZOFFSETTO:+0100
END:STANDARD
BEGIN:DAYLIGHT
DTSTART:19800406T030000
RDATE:19810329T030000,19820328T030000,19830327T030000,19840325T030000,1985
 0331T030000,19860330T030000,19870329T030000,19880327T030000,19890326T03000
 0,19900325T030000,19910331T030000,19920329T030000,19930328T030000,19940327
 T030000,19950326T030000,19960331T030000,19970330T030000,19980329T030000,19
 990328T030000,20000326T030000,20010325T030000,20020331T030000,20030330T030
 000,20040328T030000,20050327T030000,20060326T030000,20070325T030000,200803
 30T030000,20090329T030000,20100328T030000,20110327T030000,20120325T030000,
 20130331T030000,20140330T030000,20150329T030000,20160327T030000,20170326T0
 30000,20180325T030000,20190331T030000,20200329T030000,20210328T030000,2022
 0327T030000,20230326T030000,20240331T030000,20250330T030000,20260329T03000
 0,20270328T030000,20280326T030000,20290325T030000,20300331T030000,20310330
 T030000,20320328T030000,20330327T030000,20340326T030000,20350325T030000,20
 360330T030000,20370329T030000
TZNAME:CEST
TZOFFSETFROM:+0100
TZOFFSETTO:+0200
END:DAYLIGHT
BEGIN:STANDARD
DTSTART:19800928T030000
RDATE:19810927T030000,19820926T030000,19830925T030000,19840930T030000,1985
 0929T030000,19860928T030000,19870927T030000,19880925T030000,19890924T03000
 0,19900930T030000,19910929T030000,19920927T030000,19930926T030000,19940925
 T030000,19950924T030000,19961027T030000,19971026T030000,19981025T030000,19
 991031T030000,20001029T030000,20011028T030000,20021027T030000,20031026T030
 000,20041031T030000,20051030T030000,20061029T030000,20071028T030000,200810
 26T030000,20091025T030000,20101031T030000,20111030T030000,20121028T030000,
 20131027T030000,20141026T030000,20151025T030000,20161030T030000,20171029T0
 30000,20181028T030000,20191027T030000,20201025T030000,20211031T030000,2022
 1030T030000,20231029T030000,20241027T030000,20251026T030000,20261025T03000
 0,20271031T030000,20281029T030000,20291028T030000,20301027T030000,20311026
 T030000,20321031T030000,20331030T030000,20341029T030000,20351028T030000,20
 361026T030000,20371025T030000
TZNAME:CET
TZOFFSETFROM:+0200
TZOFFSETTO:+0100
END:STANDARD
END:VTIMEZONE
BEGIN:VEVENT
SUMMARY:Rhein-Neckar OSM Treffen
DTSTART;TZID=Europe/Berlin:20270222T190000
DTSTAMP:20270222T180000Z
UID:OSMCAL-4732
DESCRIPTION:Ein Treffen für alle Interessierten zum Thema OpenStreetMap i
 m Raum Rhein-Neckar. Wir treffen uns in Heidelberg im Seminarraum (1. Stoc
 k über Café Leitstelle) des [DEZERNAT#16](https://kreativwirtschaftszent
 ren-heidelberg.de/seminarraum/) (Emil-Maier-Straße 16\, 69115 Heidelberg)
  um 19 Uhr. ([Link OSM](https://www.openstreetmap.org/way/232688044)) \n\n
 Jede/r von komplett neu bis langjährig erfahren ist herzlich willkommen s
 ich über alle Themen von OpenStreetMap auszutauschen. Für Rückfragen is
 t der [Matrix-Chatraum OSM Rhein Neckar](https://matrix.to/#/#osm_rheinnec
 kar:matrix.org) eine gute Anlaufstelle. Alternativ stehen dafür auch [Jak
 ob](https://www.openstreetmap.org/user/bufferclip) oder [Martin](https://w
 ww.openstreetmap.org/user/tyr_asd/) zu Verfügung.\n\nBringt gerne eure La
 ptops mit\, falls ihr mappen oder eure letzten Projekte präsentieren woll
 t.\n\nGetränke gibt es vor Ort (Kleingeld mitbringen). Essen kann mitgebr
 acht werden\, wir können bei Bedarf auch etwas liefern lassen. Für die P
 lanung wäre es hilfreich\, wenn ihr euch hier bitte eintragt\, ob ihr dab
 ei seid. Aber spontanes Teilnehmen ist natürlich auch erlaubt.
GEO:49.407029;8.672334
LOCATION:DEZERNAT#16\, 16\, Emil-Maier-Straße\, Bergheim\, Heidelberg\, B
 aden-Württemberg\, Germany
END:VEVENT
END:VCALENDAR
