BEGIN:VCALENDAR
VERSION:2.0
PRODID:-//OSM Calendar
BEGIN:VEVENT
SUMMARY:Bäume erfassen Groter Pohl
DTSTART:20260419
DTEND:20260427
DTSTAMP:20260418T220000Z
UID:OSMCAL-4719
DESCRIPTION:Der NABU möchte mit Bürgern und Mappern den alten Baumbestan
 d in der ehemaligen Kleingartenanlage erfassen.\nEvent Website: https://ww
 w.nabu-mittleres-mecklenburg.de/rostocker-naturschutztag/stadtgr%C3%BCn-gr
 oter-pohl/
GEO:54.078716;12.121181
LOCATION:ehemalige KGA Groter Pohl\, Pütterweg\, Südstadt\, Rostock\, Me
 cklenburg-Vorpommern\, Germany
END:VEVENT
END:VCALENDAR
