BEGIN:VCALENDAR
VERSION:2.0
PRODID:-//OSM Calendar
BEGIN:VEVENT
SUMMARY:Social Mapping Event in Parramatta
DTSTART:20260430T160000Z
DTEND:20260430T180000Z
DTSTAMP:20260430T160000Z
UID:OSMCAL-4718
DESCRIPTION:30th April 2026 16:00 – 18:00\n\nCome join us for a free soc
 ial mapping event in Parramatta to explore community collaboration\, delve
  into geospatial data\, and map areas of Australia together.\n\nMidway thr
 ough we'll have snacks provided and sponsored by TomTom.\n\nIf you in the 
 area and available\, encourage you to come along. Everyone is welcome\, no
  experience is necessary. We'll have mapping projects available for differ
 ent levels of experience.\n\nDate: Thursday\, 30th April 2026\n\nTime: 16:
 00 to 16:00 AEST (Come whenever you can make it)\n\nLocation: Precise loca
 tion TBC - it will be in Parramatta within easy walking distance of the tr
 ain station. Parking is also available nearby.\n\nPrizes will be available
  for the top contributors.\n\nWe encourage you to register for the event s
 o we can plan for catering numbers and any dietary requirements you might 
 have. To register click on the 'Event Website' link below.\n\nPlease bring
  along your laptop and charger.\n\nHope to see you there!\nEvent Website: 
 https://forms.office.com/e/QKxetjUrgD
GEO:-33.817479;151.005385
LOCATION:Parramatta\, Darcy Street\, Sydney\, New South Wales\, Australia
END:VEVENT
END:VCALENDAR
