BEGIN:VCALENDAR
VERSION:2.0
PRODID:-//OSM Calendar
BEGIN:VTIMEZONE
TZID:Europe/Rome
COMMENT:This timezone only works from 1970-01-01 to 2038-01-01.
BEGIN:STANDARD
DTSTART:19700101T000000
TZNAME:CET
TZOFFSETFROM:+0100
TZOFFSETTO:+0100
END:STANDARD
BEGIN:DAYLIGHT
DTSTART:19700531T010000
RDATE:19710523T010000,19720528T010000,19730603T010000,19740526T010000,1975
 0601T010000,19760530T010000,19770522T010000,19780528T010000,19790527T01000
 0,19800406T030000,19810329T030000,19820328T030000,19830327T030000,19840325
 T030000,19850331T030000,19860330T030000,19870329T030000,19880327T030000,19
 890326T030000,19900325T030000,19910331T030000,19920329T030000,19930328T030
 000,19940327T030000,19950326T030000,19960331T030000,19970330T030000,199803
 29T030000,19990328T030000,20000326T030000,20010325T030000,20020331T030000,
 20030330T030000,20040328T030000,20050327T030000,20060326T030000,20070325T0
 30000,20080330T030000,20090329T030000,20100328T030000,20110327T030000,2012
 0325T030000,20130331T030000,20140330T030000,20150329T030000,20160327T03000
 0,20170326T030000,20180325T030000,20190331T030000,20200329T030000,20210328
 T030000,20220327T030000,20230326T030000,20240331T030000,20250330T030000,20
 260329T030000,20270328T030000,20280326T030000,20290325T030000,20300331T030
 000,20310330T030000,20320328T030000,20330327T030000,20340326T030000,203503
 25T030000,20360330T030000,20370329T030000
TZNAME:CEST
TZOFFSETFROM:+0100
TZOFFSETTO:+0200
END:DAYLIGHT
BEGIN:STANDARD
DTSTART:19700927T010000
RDATE:19710926T010000,19721001T010000,19730930T010000,19740929T010000,1975
 0928T010000,19760926T010000,19770925T010000,19781001T010000,19790930T01000
 0,19800928T030000,19810927T030000,19820926T030000,19830925T030000,19840930
 T030000,19850929T030000,19860928T030000,19870927T030000,19880925T030000,19
 890924T030000,19900930T030000,19910929T030000,19920927T030000,19930926T030
 000,19940925T030000,19950924T030000,19961027T030000,19971026T030000,199810
 25T030000,19991031T030000,20001029T030000,20011028T030000,20021027T030000,
 20031026T030000,20041031T030000,20051030T030000,20061029T030000,20071028T0
 30000,20081026T030000,20091025T030000,20101031T030000,20111030T030000,2012
 1028T030000,20131027T030000,20141026T030000,20151025T030000,20161030T03000
 0,20171029T030000,20181028T030000,20191027T030000,20201025T030000,20211031
 T030000,20221030T030000,20231029T030000,20241027T030000,20251026T030000,20
 261025T030000,20271031T030000,20281029T030000,20291028T030000,20301027T030
 000,20311026T030000,20321031T030000,20331030T030000,20341029T030000,203510
 28T030000,20361026T030000,20371025T030000
TZNAME:CET
TZOFFSETFROM:+0200
TZOFFSETTO:+0100
END:STANDARD
END:VTIMEZONE
BEGIN:VEVENT
SUMMARY:Raccolta dati aree verdi @ Giornata Mondiale della Biodiversità 2
 026 - Citizen Science Ferrara
DTSTART;TZID=Europe/Rome:20260523T110000
DTEND;TZID=Europe/Rome:20260523T180000
DTSTAMP:20260523T090000Z
UID:OSMCAL-4716
DESCRIPTION:Il 23 maggio 2026 vi aspettiamo a Ferrara per due momenti di [
 citizen science](https://it.wikipedia.org/wiki/Citizen_science) e per fest
 eggiare insieme la [Giornata mondiale della Biodiversità](https://it.wiki
 pedia.org/wiki/Giornata_mondiale_della_biodiversit%C3%A0)!\n\n*Partecipazi
 one gratuita. Posti limitati. Ad esaurimento dei posti si viene iscritti i
 n lista d'attesa e sarà possibile essere ricontattati nel caso in cui qua
 lcuno rinunci.*\n\n###**Iscrizione obbligatoria [qui](https://docs.google.
 com/forms/d/e/1FAIpQLSdD3F0NS14089MYWboGGVZpcShAyUdj84rUQMHQWhVnRLZynw/vie
 wform)**. \n\n##Mattino\nAl mattino ci troveremo alle **ore 11** al **Parc
 o Pareschi** di corso Giovecca ([mappa](https://www.openstreetmap.org/way/
 217657904))\; insieme a studenti dell'Università di Ferrara e ai volontar
 i di CitizenScienceFerrara e dei progetti OpenStreetMap e Wikimedia impare
 remo a usare alcune app per aggiornare i dati di OpenStreetMap relativi ad
  aree verdi pubbliche.\n\nL'obiettivo è verificare/aggiornare i dati pres
 enti in OpenStreetMap e inserire i dati mancanti relativi a:\n\n* *qualit
 à delle aree verdi*: mapperemo la dotazione di attrezzature (fontane acqu
 a potabile\, panchine\, rastrelliere bici\, attrezzature giochi/fitness\, 
 percorsi ciclabili di accesso\, etc)\n* *accessibilità e orari di apertur
 a*: inseriremo informazioni sulla loro accessibilità nei diversi giorni d
 ella settimana e nei diversi orari (alcune aree verdi\, come il Pareschi\,
  sono infatti perimetrate da muri e cancelli e quindi non fruibili 24 ore 
 su 24\; inoltre\, alcune aree verdi vengono chiuse in occasione di alcuni 
 eventi come cinema all'aperto\, concerti\, etc)\n* *temperature*: raccogli
 eremo dati di temperatura (aria) e umidità in diversi punti (su prato\, s
 u asfalto\, sotto l'ombra di alberi e in aree soleggiate)\, usando disposi
 tivi mobili [Meteotracker](https://meteotracker.com/mt-pwd/) (cortesemente
  messi a disposizione dall'[Istituto Navarra](https://www.verganinavarra.e
 du.it/))\n\n##Pomeriggio\nAl pomeriggio\, invece\, il ritrovo sarà alle *
 *ore 15** presso il **parchino Schiaccianoci** di via Mafalda Favaro ([map
 pa](https://www.openstreetmap.org/way/172840053))\, in occasione dell'even
 to organizzato dal raggruppamento Guardie Ecologiche Volontarie - [GEV Fer
 rara](https://www.gevferrara.it/).\n\n##Per saperne di più\nL'evento di G
 EV Ferrara prevede attività didattiche per sensibilizzare i cittadini su 
 ambiente\, biodiversità\, consumo sostenibile\, riutilizzo dei rifiuti\, 
 e laboratori creativi per i più piccini. \n\nIn parallelo ai laboratori d
 i GEV\, continueremo la mappatura OpenStreetMap e misureremo la temperatur
 a dell’aria\, in 3 punti diversi (nel parcheggio asfaltato\, nel prato d
 el parco\, sotto gli alberi accanto al macero)\n\nL’attività proposta r
 ientra nell’iniziativa [Citizen Science Ferrara](https://www.citizenscie
 nceferrara.org/)\, avviata nel 2023 nell’ambito del progetto europeo [US
 AGE](https://www.usage-project.eu/). Il tema proposto è relativo alla qua
 lità delle aree verdi pubbliche urbane di Ferrara\, focalizzando l’atte
 nzione su questi aspetti:\n\n* *biodiversità*: la presenza di specie vege
 tali diverse che attraggono insetti\, uccelli e altri piccoli animali cont
 ribuisce alla ricchezza ecologica dell'area\n* *componenti*: la presenza d
 i erba\, alberi\, arbusti\, percorsi\, acqua e arredi urbani contribuisce 
 alla complessità e alla qualità dello spazio\n* *funzione ecologica*: le
  aree verdi migliorano la qualità dell'aria assorbendo CO2 e rilasciando 
 ossigeno\, e aiutano a mitigare l'effetto "isola di calore" urbano riducen
 do le temperature\n* *fruibilità*: se le aree verdi sono accessibili e fa
 cili da usare per diverse attività ricreative\, sportive e di svago\n* *m
 anutenzione*: la cura e la manutenzione regolare sono fondamentali per gar
 antire la sicurezza\, la bellezza e la funzionalità degli spazi\n* *servi
 zi*: includono la presenza di elementi utili come panchine\, fontane con a
 cqua potabile\, percorsi pedonali e ciclabili\, aree gioco per bambini e a
 ree di svago/riposo per anziani\nEvent Website: https://www.citizenscience
 ferrara.org/news-ed-eventi/giornata-mondiale-della-biodiversit%C3%A0-2026
GEO:44.834024;11.626978
LOCATION:Ferrara\, Via Coramari\, Quacchio\, Ferrara\, Emilia-Romagna\, It
 aly
END:VEVENT
END:VCALENDAR
